Workbook

Sheet January
D1: January | E1: 2024
A2: Sunday | B2: Monday | C2: Tuesday | D2: Wednesday | E2: Thursday | F2: Friday | G2: Saturday
G3: =DATE($E$1,1,1) -> 45292
A5: =G3+1 -> 45293 | B5: =A5+1 -> 45294 | C5: =B5+1 -> 45295 | D5: =C5+1 -> 45296 | E5: =D5+1 -> 45297 | F5: =E5+1 -> 45298 | G5: =F5+1 -> 45299
A7: =G5+1 -> 45300 | B7: =A7+1 -> 45301 | C7: =B7+1 -> 45302 | D7: =C7+1 -> 45303 | E7: =D7+1 -> 45304 | F7: =E7+1 -> 45305 | G7: =F7+1 -> 45306
A9: =G7+1 -> 45307 | B9: =A9+1 -> 45308 | C9: =B9+1 -> 45309 | D9: =C9+1 -> 45310 | E9: =D9+1 -> 45311 | F9: =E9+1 -> 45312 | G9: =F9+1 -> 45313
A11: =G9+1 -> 45314 | B11: =A11+1 -> 45315 | C11: =B11+1 -> 45316 | D11: =C11+1 -> 45317 | E11: =D11+1 -> 45318 | F11: =E11+1 -> 45319 | G11: =F11+1 -> 45320
A13: =G11+1 -> 45321 | B13: =A13+1 -> 45322
A15: Frank Buck Consulting, Inc.
A16: FrankBuck.org
A17: “Organization Made Easy”

Sheet February
D1: February | E1: =January!E1 -> 2024
A2: Sunday | B2: Monday | C2: Tuesday | D2: Wednesday | E2: Thursday | F2: Friday | G2: Saturday
C3: =DATE($E$1,2,1) -> 45323 | D3: =C3+1 -> 45324 | E3: =D3+1 -> 45325 | F3: =E3+1 -> 45326 | G3: =F3+1 -> 45327
A5: =G3+1 -> 45328 | B5: =A5+1 -> 45329 | C5: =B5+1 -> 45330 | D5: =C5+1 -> 45331 | E5: =D5+1 -> 45332 | F5: =E5+1 -> 45333 | G5: =F5+1 -> 45334
A7: =G5+1 -> 45335 | B7: =A7+1 -> 45336 | C7: =B7+1 -> 45337 | D7: =C7+1 -> 45338 | E7: =D7+1 -> 45339 | F7: =E7+1 -> 45340 | G7: =F7+1 -> 45341
A9: =G7+1 -> 45342 | B9: =A9+1 -> 45343 | C9: =B9+1 -> 45344 | D9: =C9+1 -> 45345 | E9: =D9+1 -> 45346 | F9: =E9+1 -> 45347 | G9: =F9+1 -> 45348
A11: =G9+1 -> 45349 | B11: =A11+1 -> 45350
A15: Frank Buck Consulting, Inc.
A16: FrankBuck.org
A17: “Organization Made Easy”

Sheet March
D1: March | E1: =January!E1 -> 2024
A2: Sunday | B2: Monday | C2: Tuesday | D2: Wednesday | E2: Thursday | F2: Friday | G2: Saturday
C3: =DATE($E$1,3,1) -> 45352 | D3: =C3+1 -> 45353 | E3: =D3+1 -> 45354 | F3: =E3+1 -> 45355 | G3: =F3+1 -> 45356
A5: =G3+1 -> 45357 | B5: =A5+1 -> 45358 | C5: =B5+1 -> 45359 | D5: =C5+1 -> 45360 | E5: =D5+1 -> 45361 | F5: =E5+1 -> 45362 | G5: =F5+1 -> 45363
A7: =G5+1 -> 45364 | B7: =A7+1 -> 45365 | C7: =B7+1 -> 45366 | D7: =C7+1 -> 45367 | E7: =D7+1 -> 45368 | F7: =E7+1 -> 45369 | G7: =F7+1 -> 45370
A9: =G7+1 -> 45371 | B9: =A9+1 -> 45372 | C9: =B9+1 -> 45373 | D9: =C9+1 -> 45374 | E9: =D9+1 -> 45375 | F9: =E9+1 -> 45376 | G9: =F9+1 -> 45377
A11: =G9+1 -> 45378 | B11: =A11+1 -> 45379 | C11: =B11+1 -> 45380 | D11: =C11+1 -> 45381 | E11: =D11+1 -> 45382
A15: Frank Buck Consulting, Inc.
A16: FrankBuck.org
A17: “Organization Made Easy”

Sheet April
D1: April | E1: =January!E1 -> 2024
A2: Sunday | B2: Monday | C2: Tuesday | D2: Wednesday | E2: Thursday | F2: Friday | G2: Saturday
F3: =DATE($E$1,4,1) -> 45383 | G3: =F3+1 -> 45384
A5: =G3+1 -> 45385 | B5: =A5+1 -> 45386 | C5: =B5+1 -> 45387 | D5: =C5+1 -> 45388 | E5: =D5+1 -> 45389 | F5: =E5+1 -> 45390 | G5: =F5+1 -> 45391
A7: =G5+1 -> 45392 | B7: =A7+1 -> 45393 | C7: =B7+1 -> 45394 | D7: =C7+1 -> 45395 | E7: =D7+1 -> 45396 | F7: =E7+1 -> 45397 | G7: =F7+1 -> 45398
A9: =G7+1 -> 45399 | B9: =A9+1 -> 45400 | C9: =B9+1 -> 45401 | D9: =C9+1 -> 45402 | E9: =D9+1 -> 45403 | F9: =E9+1 -> 45404 | G9: =F9+1 -> 45405
A11: =G9+1 -> 45406 | B11: =A11+1 -> 45407 | C11: =B11+1 -> 45408 | D11: =C11+1 -> 45409 | E11: =D11+1 -> 45410 | F11: =E11+1 -> 45411 | G11: =F11+1 -> 45412
A15: Frank Buck Consulting, Inc.
A16: FrankBuck.org
A17: “Organization Made Easy”

Sheet May
D1: May | E1: =January!E1 -> 2024
A2: Sunday | B2: Monday | C2: Tuesday | D2: Wednesday | E2: Thursday | F2: Friday | G2: Saturday
A3: =DATE($E$1,5,1) -> 45413 | B3: =A3+1 -> 45414 | C3: =B3+1 -> 45415 | D3: =C3+1 -> 45416 | E3: =D3+1 -> 45417 | F3: =E3+1 -> 45418 | G3: =F3+1 -> 45419
A5: =G3+1 -> 45420 | B5: =A5+1 -> 45421 | C5: =B5+1 -> 45422 | D5: =C5+1 -> 45423 | E5: =D5+1 -> 45424 | F5: =E5+1 -> 45425 | G5: =F5+1 -> 45426
A7: =G5+1 -> 45427 | B7: =A7+1 -> 45428 | C7: =B7+1 -> 45429 | D7: =C7+1 -> 45430 | E7: =D7+1 -> 45431 | F7: =E7+1 -> 45432 | G7: =F7+1 -> 45433
A9: =G7+1 -> 45434 | B9: =A9+1 -> 45435 | C9: =B9+1 -> 45436 | D9: =C9+1 -> 45437 | E9: =D9+1 -> 45438 | F9: =E9+1 -> 45439 | G9: =F9+1 -> 45440
A11: =G9+1 -> 45441 | B11: =A11+1 -> 45442 | C11: =B11+1 -> 45443
A15: Frank Buck Consulting, Inc.
A16: FrankBuck.org
A17: “Organization Made Easy”

Sheet June
D1: June | E1: =January!E1 -> 2024
A2: Sunday | B2: Monday | C2: Tuesday | D2: Wednesday | E2: Thursday | F2: Friday | G2: Saturday
D3: =C3+1 -> 1 | E3: =D3+1 -> 2 | F3: =E3+1 -> 3 | G3: =F3+1 -> 4
A5: =G3+1 -> 5 | B5: =A5+1 -> 6 | C5: =B5+1 -> 7 | D5: =C5+1 -> 8 | E5: =D5+1 -> 9 | F5: =E5+1 -> 10 | G5: =F5+1 -> 11
A7: =G5+1 -> 12 | B7: =A7+1 -> 13 | C7: =B7+1 -> 14 | D7: =C7+1 -> 15 | E7: =D7+1 -> 16 | F7: =E7+1 -> 17 | G7: =F7+1 -> 18
A9: =G7+1 -> 19 | B9: =A9+1 -> 20 | C9: =B9+1 -> 21 | D9: =C9+1 -> 22 | E9: =D9+1 -> 23 | F9: =E9+1 -> 24 | G9: =F9+1 -> 25
A11: =G9+1 -> 26 | B11: =A11+1 -> 27 | C11: =B11+1 -> 28 | D11: =C11+1 -> 29 | E11: =D11+1 -> 30
A15: Frank Buck Consulting, Inc.
A16: FrankBuck.org
A17: “Organization Made Easy”

Sheet July
D1: July | E1: =January!E1 -> 2024
A2: Sunday | B2: Monday | C2: Tuesday | D2: Wednesday | E2: Thursday | F2: Friday | G2: Saturday
F3: =E3+1 -> 1 | G3: =F3+1 -> 2
A5: =G3+1 -> 3 | B5: =A5+1 -> 4 | C5: =B5+1 -> 5 | D5: =C5+1 -> 6 | E5: =D5+1 -> 7 | F5: =E5+1 -> 8 | G5: =F5+1 -> 9
A7: =G5+1 -> 10 | B7: =A7+1 -> 11 | C7: =B7+1 -> 12 | D7: =C7+1 -> 13 | E7: =D7+1 -> 14 | F7: =E7+1 -> 15 | G7: =F7+1 -> 16
A9: =G7+1 -> 17 | B9: =A9+1 -> 18 | C9: =B9+1 -> 19 | D9: =C9+1 -> 20 | E9: =D9+1 -> 21 | F9: =E9+1 -> 22 | G9: =F9+1 -> 23
A11: =G9+1 -> 24 | B11: =A11+1 -> 25 | C11: =B11+1 -> 26 | D11: =C11+1 -> 27 | E11: =D11+1 -> 28 | F11: =E11+1 -> 29 | G11: =F11+1 -> 30
A13: =G11+1 -> 31
A15: Frank Buck Consulting, Inc.
A16: FrankBuck.org
A17: “Organization Made Easy”

Sheet August
D1: August | E1: =January!E1 -> 2024
A2: Sunday | B2: Monday | C2: Tuesday | D2: Wednesday | E2: Thursday | F2: Friday | G2: Saturday
B3: =A3+1 -> 1 | C3: =B3+1 -> 2 | D3: =C3+1 -> 3 | E3: =D3+1 -> 4 | F3: =E3+1 -> 5 | G3: =F3+1 -> 6
A5: =G3+1 -> 7 | B5: =A5+1 -> 8 | C5: =B5+1 -> 9 | D5: =C5+1 -> 10 | E5: =D5+1 -> 11 | F5: =E5+1 -> 12 | G5: =F5+1 -> 13
A7: =G5+1 -> 14 | B7: =A7+1 -> 15 | C7: =B7+1 -> 16 | D7: =C7+1 -> 17 | E7: =D7+1 -> 18 | F7: =E7+1 -> 19 | G7: =F7+1 -> 20
A9: =G7+1 -> 21 | B9: =A9+1 -> 22 | C9: =B9+1 -> 23 | D9: =C9+1 -> 24 | E9: =D9+1 -> 25 | F9: =E9+1 -> 26 | G9: =F9+1 -> 27
A11: =G9+1 -> 28 | B11: =A11+1 -> 29 | C11: =B11+1 -> 30 | D11: =C11+1 -> 31
A15: Frank Buck Consulting, Inc.
A16: FrankBuck.org
A17: “Organization Made Easy”

Sheet September
D1: September | E1: =January!E1 -> 2024
A2: Sunday | B2: Monday | C2: Tuesday | D2: Wednesday | E2: Thursday | F2: Friday | G2: Saturday
E3: =D3+1 -> 1 | F3: =E3+1 -> 2 | G3: =F3+1 -> 3
A5: =G3+1 -> 4 | B5: =A5+1 -> 5 | C5: =B5+1 -> 6 | D5: =C5+1 -> 7 | E5: =D5+1 -> 8 | F5: =E5+1 -> 9 | G5: =F5+1 -> 10
A7: =G5+1 -> 11 | B7: =A7+1 -> 12 | C7: =B7+1 -> 13 | D7: =C7+1 -> 14 | E7: =D7+1 -> 15 | F7: =E7+1 -> 16 | G7: =F7+1 -> 17
A9: =G7+1 -> 18 | B9: =A9+1 -> 19 | C9: =B9+1 -> 20 | D9: =C9+1 -> 21 | E9: =D9+1 -> 22 | F9: =E9+1 -> 23 | G9: =F9+1 -> 24
A11: =G9+1 -> 25 | B11: =A11+1 -> 26 | C11: =B11+1 -> 27 | D11: =C11+1 -> 28 | E11: =D11+1 -> 29 | F11: =E11+1 -> 30
A15: Frank Buck Consulting, Inc.
A16: FrankBuck.org
A17: “Organization Made Easy”

Sheet October
D1: October | E1: =January!E1 -> 2024
A2: Sunday | B2: Monday | C2: Tuesday | D2: Wednesday | E2: Thursday | F2: Friday | G2: Saturday
G3: =F3+1 -> 1
A5: =G3+1 -> 2 | B5: =A5+1 -> 3 | C5: =B5+1 -> 4 | D5: =C5+1 -> 5 | E5: =D5+1 -> 6 | F5: =E5+1 -> 7 | G5: =F5+1 -> 8
A7: =G5+1 -> 9 | B7: =A7+1 -> 10 | C7: =B7+1 -> 11 | D7: =C7+1 -> 12 | E7: =D7+1 -> 13 | F7: =E7+1 -> 14 | G7: =F7+1 -> 15
A9: =G7+1 -> 16 | B9: =A9+1 -> 17 | C9: =B9+1 -> 18 | D9: =C9+1 -> 19 | E9: =D9+1 -> 20 | F9: =E9+1 -> 21 | G9: =F9+1 -> 22
A11: =G9+1 -> 23 | B11: =A11+1 -> 24 | C11: =B11+1 -> 25 | D11: =C11+1 -> 26 | E11: =D11+1 -> 27 | F11: =E11+1 -> 28 | G11: =F11+1 -> 29
A13: =G11+1 -> 30
A15: Frank Buck Consulting, Inc.
A16: FrankBuck.org
A17: “Organization Made Easy”

Sheet November
D1: November | E1: =January!E1 -> 2024
A2: Sunday | B2: Monday | C2: Tuesday | D2: Wednesday | E2: Thursday | F2: Friday | G2: Saturday
B3: =DATE($E$1,11,1) -> 45597 | C3: =B3+1 -> 45598 | D3: =C3+1 -> 45599 | E3: =D3+1 -> 45600 | F3: =E3+1 -> 45601 | G3: =F3+1 -> 45602
A5: =G3+1 -> 45603 | B5: =A5+1 -> 45604 | C5: =B5+1 -> 45605 | D5: =C5+1 -> 45606 | E5: =D5+1 -> 45607 | F5: =E5+1 -> 45608 | G5: =F5+1 -> 45609
A7: =G5+1 -> 45610 | B7: =A7+1 -> 45611 | C7: =B7+1 -> 45612 | D7: =C7+1 -> 45613 | E7: =D7+1 -> 45614 | F7: =E7+1 -> 45615 | G7: =F7+1 -> 45616
A9: =G7+1 -> 45617 | B9: =A9+1 -> 45618 | C9: =B9+1 -> 45619 | D9: =C9+1 -> 45620 | E9: =D9+1 -> 45621 | F9: =E9+1 -> 45622 | G9: =F9+1 -> 45623
A11: =G9+1 -> 45624 | B11: =A11+1 -> 45625 | C11: =B11+1 -> 45626
A15: Frank Buck Consulting, Inc.
A16: FrankBuck.org
A17: “Organization Made Easy”

Sheet December
D1: December | E1: =January!E1 -> 2024
A2: Sunday | B2: Monday | C2: Tuesday | D2: Wednesday | E2: Thursday | F2: Friday | G2: Saturday
D3: =DATE($E$1,12,1) -> 45627 | E3: =D3+1 -> 45628 | F3: =E3+1 -> 45629 | G3: =F3+1 -> 45630
A5: =G3+1 -> 45631 | B5: =A5+1 -> 45632 | C5: =B5+1 -> 45633 | D5: =C5+1 -> 45634 | E5: =D5+1 -> 45635 | F5: =E5+1 -> 45636 | G5: =F5+1 -> 45637
A7: =G5+1 -> 45638 | B7: =A7+1 -> 45639 | C7: =B7+1 -> 45640 | D7: =C7+1 -> 45641 | E7: =D7+1 -> 45642 | F7: =E7+1 -> 45643 | G7: =F7+1 -> 45644
A9: =G7+1 -> 45645 | B9: =A9+1 -> 45646 | C9: =B9+1 -> 45647 | D9: =C9+1 -> 45648 | E9: =D9+1 -> 45649 | F9: =E9+1 -> 45650 | G9: =F9+1 -> 45651
A11: =G9+1 -> 45652 | B11: =A11+1 -> 45653 | C11: =B11+1 -> 45654 | D11: =C11+1 -> 45655 | E11: =D11+1 -> 45656 | F11: =E11+1 -> 45657
A15: Frank Buck Consulting, Inc.
A16: FrankBuck.org
A17: “Organization Made Easy”
